Workbook

Sheet 2026-2027-1学期执行计划列表
A1: 上课院系 | B1: 上课年级 | C1: 上课专业 | D1: 班级数 | E1: 学年学期 | F1: 课程编号 | G1: 课程名称 | H1: 课程属性 | I1: 学分 | J1: 总学时 | K1: 班级数 | L1: 班级名称 | M1: 讲课学时 | N1: 实践学时 | O1: 课程体系 | P1: 考核方式 | Q1: 开课单位 | R1: 开课教研室 | S1: 考核方式（笔试、论文、综述、答辩等） | T1: 考试形式（闭卷、开卷） | U1: 是否随堂考 | V1: 随堂考试时间 | W1: 是否教务处统一安排考试 | X1: 备注
A2: 人工智能学院 | B2: 2025 | C2: 生物医药数据科学 | D2: 2 | E2: 2026-2027-1 | F2: 1112110006 | G2: 药学基础（一） | H2: 必修 | I2: 3 | J2: 51 | K2: 2 | L2: 生物医药数据科学25205601,生物医药数据科学25205602 | M2: 51(3) | O2: 专业教育 | P2: 考试 | Q2: 化学学院 | R2: 化学系 | S2: 笔试 | T2: 闭卷 | U2: 否 | V2: 是 | W2: 否
A3: 人工智能学院 | B3: 2025 | C3: 生物医药数据科学 | D3: 2 | E3: 2026-2027-1 | F3: 1112051040 | G3: 化学基础及实验（二） | H3: 必修 | I3: 3 | J3: 68 | K3: 2 | L3: 生物医药数据科学25205601,生物医药数据科学25205602 | M3: 34(2) | N3: 34(2) | O3: 专业教育 | P3: 考试 | Q3: 化学学院 | R3: 化学系 | S3: 笔试 | T3: 闭卷 | U3: 否 | W3: 是
A4: 人工智能学院 | B4: 2025 | C4: 生物统计学 | D4: 1 | E4: 2026-2027-1 | F4: 1112051040 | G4: 化学基础及实验（二） | H4: 必修 | I4: 3 | J4: 68 | K4: 1 | L4: 生物统计学25205701 | M4: 34(2) | N4: 34(2) | O4: 专业教育 | P4: 考试 | Q4: 化学学院 | R4: 化学系 | S4: 笔试 | T4: 闭卷 | U4: 否 | W4: 是
A5: 基础医学与临床药学学院 | B5: 2025 | C5: 临床药学 | D5: 3 | E5: 2026-2027-1 | F5: 1112051040 | G5: 化学基础及实验（二） | H5: 必修 | I5: 3 | J5: 68 | K5: 3 | L5: 临床药学25213101,临床药学25213102,临床药学25213103 | M5: 34(2) | N5: 34(2) | O5: 专业教育 | P5: 考试 | Q5: 化学学院 | R5: 化学系 | S5: 笔试 | T5: 闭卷 | U5: 否 | W5: 是
A6: 基础医学与临床药学学院 | B6: 2025 | C6: 临床药学（中外合作办学） | D6: 2 | E6: 2026-2027-1 | F6: 1112051014 | G6: Chemical Basis and Lab II | H6: 必修 | I6: 3 | J6: 68 | K6: 2 | L6: 临床药学（中外）25213201,临床药学（中外）25213202 | M6: 34(2) | N6: 34(2) | O6: 专业教育 | P6: 考试 | Q6: 化学学院 | R6: 化学系 | S6: 笔试 | T6: 闭卷 | U6: 否 | W6: 是
A7: 国际医药商学院 | B7: 2025 | C7: 医疗产品管理 | D7: 2 | E7: 2026-2027-1 | F7: 1112051011 | G7: 化学基础与实验（二） | H7: 必修 | I7: 3 | J7: 68 | K7: 2 | L7: 医疗产品管理25204801,医疗产品管理25204802 | M7: 34(0) | N7: 34(0) | O7: 专业教育 | P7: 考试 | Q7: 化学学院 | R7: 化学系 | S7: 笔试 | T7: 闭卷 | U7: 否 | W7: 是
A8: 国际医药商学院 | B8: 2025 | C8: 药事管理 | D8: 3 | E8: 2026-2027-1 | F8: 1112051011 | G8: 化学基础与实验（二） | H8: 必修 | I8: 3 | J8: 68 | K8: 3 | L8: 药事管理25204501,药事管理25204502,药事管理25204503 | M8: 34(0) | N8: 34(0) | O8: 专业教育 | P8: 考试 | Q8: 化学学院 | R8: 化学系 | S8: 笔试 | T8: 闭卷 | U8: 否 | W8: 是
A9: 国际医药商学院 | B9: 2025 | C9: 健康服务与管理 | D9: 2 | E9: 2026-2027-1 | F9: 1112051011 | G9: 化学基础与实验（二） | H9: 必修 | I9: 3 | J9: 68 | K9: 2 | L9: 健康服务与管理25204701,健康服务与管理25204702 | M9: 34(0) | N9: 34(0) | O9: 专业教育 | P9: 考试 | Q9: 化学学院 | R9: 化学系 | S9: 笔试 | T9: 闭卷 | U9: 否 | W9: 是
A10: 国际医药商学院 | B10: 2025 | C10: 工商管理 | D10: 2 | E10: 2026-2027-1 | F10: 1112051011 | G10: 化学基础与实验（二） | H10: 必修 | I10: 3 | J10: 68 | K10: 2 | L10: 工管25204201,工管25204202 | M10: 34(0) | N10: 34(0) | O10: 专业教育 | P10: 考试 | Q10: 化学学院 | R10: 化学系 | S10: 笔试 | T10: 闭卷 | U10: 否 | W10: 是
A11: 生命科学与技术学院 | B11: 2025 | C11: 药学（生化与药理方向） | D11: 3 | E11: 2026-2027-1 | F11: 1112050351 | G11: Instrumental Analysis | H11: 必修 | I11: 3 | J11: 51 | K11: 3 | L11: 药学（中外）25203501,药学（中外）25203502,药学（中外）25203503 | M11: 51(3) | O11: 专业教育 | P11: 考试 | Q11: 化学学院 | R11: 化学系 | S11: 笔试 | T11: 闭卷 | U11: 是 | V11: 46324 | W11: 否
A12: 化学学院 | B12: 2026 | C12: 民族预科生（新疆西藏） | D12: 1 | E12: 2026-2027-1 | F12: 1712050010 | G12: 基础化学（一） | H12: 必修 | I12: 2 | J12: 34 | K12: 1 | L12: 民族预科26205301 | M12: 34(2) | O12: 通识教育 | P12: 考试 | Q12: 化学学院 | R12: 化学系 | S12: 笔试 | T12: 闭卷 | U12: 是 | V12: 11月25日上午3-4节 | W12: 否
A13: 工学院 | B13: 2026 | C13: 生物医学工程 | D13: 1 | E13: 2026-2027-1 | F13: 1712050010 | G13: 基础化学（一） | H13: 必修 | I13: 2 | J13: 34 | K13: 1 | L13: 生物医学工程26212601 | M13: 34(2) | O13: 通识教育 | P13: 考试 | Q13: 化学学院 | R13: 化学系 | S13: 笔试 | T13: 闭卷 | U13: 否 | W13: 是
A14: 化学学院 | B14: 2026 | C14: 民族预科生（非新疆西藏） | D14: 1 | E14: 2026-2027-1 | F14: 1712050009 | G14: 基础化学（一） | H14: 必修 | I14: 4 | J14: 68 | K14: 1 | L14: 民族预科26205501 | M14: 68(4) | O14: 通识教育 | P14: 考试 | Q14: 化学学院 | R14: 化学系 | S14: 笔试 | T14: 闭卷 | U14: 是 | V14: 11月25日上午1-2节 | W14: 否
A15: 孟目的学院 | B15: 2026 | C15: 药学（杰出药学家实验班） | D15: 2 | E15: 2026-2027-1 | F15: 1112051044 | G15: 化学I：化学原理 | H15: 必修 | I15: 4 | J15: 70 | K15: 2 | L15: 杰出药学家班26240101,杰出药学家班26240102 | M15: 70(4) | O15: 专业教育 | P15: 考试 | Q15: 化学学院 | R15: 化学系 | S15: 笔试 | T15: 闭卷 | U15: 否 | W15: 是
A16: 孟目的学院 | B16: 2026 | C16: 临床药学（卓越药师实验班） | D16: 1 | E16: 2026-2027-1 | F16: 1112051044 | G16: 化学I：化学原理 | H16: 必修 | I16: 4 | J16: 70 | K16: 1 | L16: 临床药学（卓越药师班）26213301 | M16: 70(4) | O16: 通识教育 | P16: 考试 | Q16: 化学学院 | R16: 化学系 | S16: 笔试 | T16: 闭卷 | U16: 否 | W16: 是
A17: 孟目的学院 | B17: 2026 | C17: 拔尖MTN | D17: 8 | E17: 2026-2027-1 | F17: 1112051044 | G17: 化学I：化学原理 | H17: 必修 | I17: 4 | J17: 70 | M17: 70(4) | O17: 通识教育 | P17: 考试 | Q17: 化学学院 | R17: 化学系 | S17: 笔试 | T17: 闭卷 | U17: 否 | W17: 是
A18: 药学院 | B18: 2026 | C18: 药学类 | D18: 27 | E18: 2026-2027-1 | F18: 1112051025 | G18: 基础化学（一） | H18: 必修 | I18: 2 | J18: 42 | K18: 27 | L18: 药学类26201001,药学类26201002,药学类26201003,药学类26201004,药学类26201005,药学类26201006,药学类26201007,药学类26201008,药学类26201009,药学类26201010,药学类26201011,药学类26201012,药学类26201013,药学类26201014,药学类26201015,药学类26201016,药学类26201017,药学类26201018,药学类26201019,药学类26201020,药学类26201021,药学类26201022,药学类26201023,药学类26201024,药学类26201025,药学类26201026,药学类26201027 | M18: 34(0) | O18: 专业教育 | P18: 考试 | Q18: 化学学院 | R18: 化学系 | S18: 笔试 | T18: 闭卷 | U18: 否 | W18: 是
A19: 生命科学与技术学院 | B19: 2026 | C19: 药学（生化与药理方向） | D19: 3 | E19: 2026-2027-1 | F19: 1112050367 | G19: Basic Chemistry 1 | H19: 必修 | I19: 2 | J19: 34 | K19: 3 | L19: 药学（中外）26203501,药学（中外）26203502,药学（中外）26203503 | M19: 34(2) | O19: 专业教育 | P19: 考试 | Q19: 化学学院 | R19: 化学系 | S19: 笔试 | T19: 闭卷 | U19: 否 | W19: 是
A20: 中药学院 | B20: 2026 | C20: 中药学类 | D20: 11 | E20: 2026-2027-1 | F20: 1112050306 | G20: 基础化学（一） | H20: 必修 | I20: 3 | J20: 51 | K20: 11 | L20: 中药学类26202001,中药学类26202002,中药学类26202003,中药学类26202004,中药学类26202005,中药学类26202006,中药学类26202007,中药学类26202008,中药学类26202009,中药学类26202010,中药学类26202011 | M20: 51(3) | O20: 专业教育 | P20: 考试 | Q20: 化学学院 | R20: 化学系 | S20: 笔试 | T20: 闭卷 | U20: 否 | W20: 是
A21: 中药学院 | B21: 2026 | C21: 化妆品科学与技术 | D21: 2 | E21: 2026-2027-1 | F21: 1112050306 | G21: 基础化学（一） | H21: 必修 | I21: 3 | J21: 51 | K21: 2 | L21: 化妆品26202601,化妆品26202602 | M21: 51(3) | O21: 专业教育 | P21: 考试 | Q21: 化学学院 | R21: 化学系 | S21: 笔试 | T21: 闭卷 | U21: 否 | W21: 是
A22: 生物药物学院 | B22: 2026 | C22: 生物制药 | D22: 8 | E22: 2026-2027-1 | F22: 1112050306 | G22: 基础化学（一） | H22: 必修 | I22: 3 | J22: 51 | K22: 8 | L22: 生物制药26203401,生物制药26203402,生物制药26203403,生物制药26203404,生物制药26203405,生物制药26203406,生物制药26203407,生物制药26203408 | M22: 51(3) | O22: 专业教育 | P22: 考试 | Q22: 化学学院 | R22: 化学系 | S22: 笔试 | T22: 闭卷 | U22: 否 | W22: 是
A23: 生命科学与技术学院 | B23: 2026 | C23: 生物技术 | D23: 2 | E23: 2026-2027-1 | F23: 1112050306 | G23: 基础化学（一） | H23: 必修 | I23: 3 | J23: 51 | K23: 2 | L23: 生物技术26203201,生物技术26203202 | M23: 51(3) | O23: 专业教育 | P23: 考试 | Q23: 化学学院 | R23: 化学系 | S23: 笔试 | T23: 闭卷 | U23: 否 | W23: 是
A24: 生命科学与技术学院 | B24: 2026 | C24: 海洋药学 | D24: 2 | E24: 2026-2027-1 | F24: 1112050306 | G24: 基础化学（一） | H24: 必修 | I24: 3 | J24: 51 | K24: 2 | L24: 海洋药学26203301,海洋药学26203302 | M24: 51(3) | O24: 专业教育 | P24: 考试 | Q24: 化学学院 | R24: 化学系 | S24: 笔试 | T24: 闭卷 | U24: 否 | W24: 是
A25: 工学院 | B25: 2026 | C25: 食品质量与安全 | D25: 1 | E25: 2026-2027-1 | F25: 1112050306 | G25: 基础化学（一） | H25: 必修 | I25: 3 | J25: 51 | K25: 1 | L25: 食品质量与安全26212701 | M25: 51(3) | O25: 专业教育 | P25: 考试 | Q25: 化学学院 | R25: 化学系 | S25: 笔试 | T25: 闭卷 | U25: 否 | W25: 是
A26: 工学院 | B26: 2026 | C26: 化工与制药类 | D26: 7 | E26: 2026-2027-1 | F26: 1112050306 | G26: 基础化学（一） | H26: 必修 | I26: 3 | J26: 51 | K26: 7 | L26: 化工与制药类26212001,化工与制药类26212002,化工与制药类26212003,化工与制药类26212004,化工与制药类26212005,化工与制药类26212006,化工与制药类26212007 | M26: 51(3) | O26: 专业教育 | P26: 考试 | Q26: 化学学院 | R26: 化学系 | S26: 笔试 | T26: 闭卷 | U26: 否 | W26: 是
A27: 孟目的学院 | B27: 2025 | C27: 拔尖MTN | D27: 10 | E27: 2026-2027-1 | F27: 1112050383 | G27: Python与医药数据处理 | H27: 必修 | I27: 3 | J27: 68 | K27: 10 | L27: 拔尖MTN25216101,拔尖MTN25216102,拔尖MTN25216103,拔尖MTN25216104,拔尖MTN25216105,拔尖MTN25216106,拔尖MTN25216107,拔尖MTN25216108,拔尖MTN25216109,拔尖MTN25216110 | M27: 34(2) | N27: 34(2) | O27: 通识教育 | P27: 考试 | Q27: 人工智能学院 | S27: 上机考试 | T27: 闭卷 | U27: 是 | V27: 第十周 | W27: 否
A28: 人工智能学院 | B28: 2024 | C28: 生物医药数据科学 | D28: 2 | E28: 2026-2027-1 | F28: 1112051021 | G28: 深度学习 | H28: 必修 | I28: 3 | J28: 68 | K28: 2 | L28: 生物医药数据科学24205601,生物医药数据科学24205602 | M28: 34(2) | N28: 34(2) | O28: 专业教育 | P28: 考试 | Q28: 人工智能学院 | R28: 数据科学系 | S28: 上机考试 | T28: 闭卷 | U28: 是 | V28: 第九周 | W28: 否
A29: 人工智能学院 | B29: 2024 | C29: 生物医药数据科学 | D29: 2 | E29: 2026-2027-1 | F29: 1112050388 | G29: 大数据技术原理与应用 | H29: 必修 | I29: 3 | J29: 68 | K29: 2 | L29: 生物医药数据科学24205601,生物医药数据科学24205602 | M29: 34(2) | N29: 34(2) | O29: 专业教育 | P29: 考试 | Q29: 人工智能学院 | R29: 数据科学系 | S29: 上机考试 | T29: 开卷 | U29: 是 | V29: 第十三周 | W29: 否
A30: 人工智能学院 | B30: 2024 | C30: 生物医药数据科学 | D30: 2 | E30: 2026-2027-1 | F30: 1112050316 | G30: 网络数据采集方法与工具 | H30: 必修 | I30: 3 | J30: 68 | K30: 2 | L30: 生物医药数据科学24205601,生物医药数据科学24205602 | M30: 34(2) | N30: 34(4) | O30: 专业教育 | P30: 考试 | Q30: 人工智能学院 | R30: 数据科学系 | S30: 上机考试 | T30: 闭卷 | U30: 是 | V30: 第九周 | W30: 否
A31: 人工智能学院 | B31: 2025 | C31: 生物医药数据科学 | D31: 2 | E31: 2026-2027-1 | F31: 1112050386 | G31: Linux开发基础 | H31: 必修 | I31: 0.5 | J31: 17 | K31: 2 | L31: 生物医药数据科学25205601,生物医药数据科学25205602 | N31: 17(1) | O31: 专业教育 | P31: 考查 | Q31: 人工智能学院 | R31: 数据科学系 | S31: 上机考试 | T31: 开卷 | U31: 是 | V31: 第九周 | W31: 否
A32: 人工智能学院 | B32: 2025 | C32: 生物医药数据科学 | D32: 2 | E32: 2026-2027-1 | F32: 1112050315 | G32: 数据科学基础 | H32: 必修 | I32: 3 | J32: 68 | K32: 2 | L32: 生物医药数据科学25205601,生物医药数据科学25205602 | M32: 34(2) | N32: 34(4) | O32: 专业教育 | P32: 考试 | Q32: 人工智能学院 | R32: 数据科学系 | S32: 上机考试 | T32: 开卷 | U32: 是 | V32: 第八周 | W32: 否
A33: 人工智能学院 | B33: 2025 | C33: 生物统计学 | D33: 1 | E33: 2026-2027-1 | F33: 1112050315 | G33: 数据科学基础 | H33: 必修 | I33: 3 | J33: 68 | K33: 1 | L33: 生物统计学25205701 | M33: 34(2) | N33: 34(4) | O33: 专业教育 | P33: 考试 | Q33: 人工智能学院 | R33: 数据科学系 | S33: 上机考试 | T33: 开卷 | U33: 是 | V33: 第八周 | W33: 否
A34: 人工智能学院 | B34: 2025 | C34: 生物医药数据科学 | D34: 2 | E34: 2026-2027-1 | F34: 1112050216 | G34: 数据库原理与应用 | H34: 必修 | I34: 4 | J34: 85 | K34: 2 | L34: 生物医药数据科学25205601,生物医药数据科学25205602 | M34: 51(3) | N34: 34(3) | O34: 专业教育 | P34: 考试 | Q34: 人工智能学院 | R34: 数据科学系 | S34: 上机考试 | T34: 闭卷 | U34: 是 | V34: 第十三周 | W34: 否
A35: 中药学院 | B35: 2026 | C35: 中药学类 | D35: 11 | E35: 2026-2027-1 | F35: 1112051063 | G35: 人工智能通识 | H35: 必修 | I35: 1.5 | J35: 34 | K35: 11 | L35: 中药学类26202001,中药学类26202002,中药学类26202003,中药学类26202004,中药学类26202005,中药学类26202006,中药学类26202007,中药学类26202008,中药学类26202009,中药学类26202010,中药学类26202011 | M35: 17(0) | N35: 17(0) | O35: 通识教育 | P35: 考试 | Q35: 人工智能学院 | R35: 数据科学系 | S35: 设计性作业 | T35: 开卷 | U35: 是 | V35: 11周、12周 | W35: 否
A36: 中药学院 | B36: 2026 | C36: 化妆品科学与技术 | D36: 2 | E36: 2026-2027-1 | F36: 1112051063 | G36: 人工智能通识 | H36: 必修 | I36: 1.5 | J36: 34 | K36: 2 | L36: 化妆品26202601,化妆品26202602 | M36: 17(0) | N36: 17(0) | O36: 通识教育 | P36: 考试 | Q36: 人工智能学院 | R36: 数据科学系 | S36: 设计性作业 | T36: 开卷 | U36: 是 | V36: 11周、12周 | W36: 否
A37: 药学院 | B37: 2026 | C37: 药学类 | D37: 27 | E37: 2026-2027-1 | F37: 1112051063 | G37: 人工智能通识 | H37: 必修 | I37: 1.5 | J37: 34 | K37: 27 | L37: 药学类26201001,药学类26201002,药学类26201003,药学类26201004,药学类26201005,药学类26201006,药学类26201007,药学类26201008,药学类26201009,药学类26201010,药学类26201011,药学类26201012,药学类26201013,药学类26201014,药学类26201015,药学类26201016,药学类26201017,药学类26201018,药学类26201019,药学类26201020,药学类26201021,药学类26201022,药学类26201023,药学类26201024,药学类26201025,药学类26201026,药学类26201027 | M37: 17(0) | N37: 17(0) | O37: 通识教育 | P37: 考试 | Q37: 人工智能学院 | R37: 数据科学系 | S37: 设计性作业 | T37: 开卷 | U37: 是 | V37: 11周、12周 | W37: 否
A38: 外国语学院 | B38: 2026 | C38: 英语 | D38: 6 | E38: 2026-2027-1 | F38: 1112051063 | G38: 人工智能通识 | H38: 必修 | I38: 1.5 | J38: 34 | K38: 6 | L38: 英语26209101,英语26209102,英语26209103,英语26209104,英语26209105,英语26209106 | M38: 17(0) | N38: 17(0) | O38: 通识教育 | P38: 考试 | Q38: 人工智能学院 | R38: 数据科学系 | S38: 设计性作业 | T38: 开卷 | U38: 是 | V38: 11周、12周 | W38: 否
A39: 生物药物学院 | B39: 2026 | C39: 生物制药 | D39: 8 | E39: 2026-2027-1 | F39: 1112051063 | G39: 人工智能通识 | H39: 必修 | I39: 1.5 | J39: 34 | K39: 8 | L39: 生物制药26203401,生物制药26203402,生物制药26203403,生物制药26203404,生物制药26203405,生物制药26203406,生物制药26203407,生物制药26203408 | M39: 17(0) | N39: 17(0) | O39: 通识教育 | P39: 考试 | Q39: 人工智能学院 | R39: 数据科学系 | S39: 设计性作业 | T39: 开卷 | U39: 是 | V39: 11周、12周 | W39: 否
A40: 生命科学与技术学院 | B40: 2026 | C40: 药学（生化与药理方向） | D40: 3 | E40: 2026-2027-1 | F40: 1112051063 | G40: 人工智能通识 | H40: 必修 | I40: 1.5 | J40: 34 | K40: 3 | L40: 药学（中外）26203501,药学（中外）26203502,药学（中外）26203503 | M40: 17(0) | N40: 17(0) | O40: 通识教育 | P40: 考试 | Q40: 人工智能学院 | R40: 数据科学系 | S40: 设计性作业 | T40: 开卷 | U40: 是 | V40: 11周、12周 | W40: 否
...

Sheet Sheet2
A1: 第七周
A2: 第十三周
A3: 第十四周

Sheet Sheet1
A1: 课程编号 | B1: 教研室
A2: 1712090007 | B2: =VLOOKUP(A2,[1]课程总库列表!$A$2:$Z$4718,26,0) -> 大学英语教研室
A3: 1712090007 | B3: =VLOOKUP(A3,[1]课程总库列表!$A$2:$Z$4718,26,0) -> 大学英语教研室
A4: 1712090005 | B4: =VLOOKUP(A4,[1]课程总库列表!$A$2:$Z$4718,26,0) -> 大学英语教研室
A5: 1712090005 | B5: =VLOOKUP(A5,[1]课程总库列表!$A$2:$Z$4718,26,0) -> 大学英语教研室
A6: 1712090002 | B6: =VLOOKUP(A6,[1]课程总库列表!$A$2:$Z$4718,26,0) -> 大学英语教研室
A7: 1712090001 | B7: =VLOOKUP(A7,[1]课程总库列表!$A$2:$Z$4718,26,0) -> 大学英语教研室
A8: 1712050015 | B8: =VLOOKUP(A8,[1]课程总库列表!$A$2:$Z$4718,26,0) -> 数理系
A9: 1712050013 | B9: =VLOOKUP(A9,[1]课程总库列表!$A$2:$Z$4718,26,0) -> 医药信息与生物统计系
A10: 1712050013 | B10: =VLOOKUP(A10,[1]课程总库列表!$A$2:$Z$4718,26,0) -> 医药信息与生物统计系
A11: 1712050010 | B11: =VLOOKUP(A11,[1]课程总库列表!$A$2:$Z$4718,26,0) -> 化学系
A12: 1712050010 | B12: =VLOOKUP(A12,[1]课程总库列表!$A$2:$Z$4718,26,0) -> 化学系
A13: 1712050009 | B13: =VLOOKUP(A13,[1]课程总库列表!$A$2:$Z$4718,26,0) -> 化学系
... A472: 1111100070 | B472: =VLOOKUP(A472,[1]课程总库列表!$A$2:$Z$4718,26,0) -> 生命科学与技术学院办公室
