Workbook

Sheet 2026-2027-1学期执行计划列表
A1: 上课院系 | B1: 上课年级 | C1: 上课专业 | D1: 班级数 | E1: 学年学期 | F1: 课程编号 | G1: 课程名称 | H1: 课程属性 | I1: 学分 | J1: 总学时 | K1: 班级数 | L1: 班级名称 | M1: 讲课学时 | N1: 实践学时 | O1: 课程体系 | P1: 考核方式 | Q1: 开课单位 | R1: 开课教研室 | S1: 考核方式（笔试、论文、综述、答辩等） | T1: 考试形式（闭卷、开卷） | U1: 是否随堂考 | V1: 随堂考试时间 | W1: 是否教务处统一安排考试 | X1: 备注
A2: 人工智能学院 | B2: 2025 | C2: 生物医药数据科学 | D2: 2 | E2: 2026-2027-1 | F2: 1112110006 | G2: 药学基础（一） | H2: 必修 | I2: 3 | J2: 51 | K2: 2 | L2: 生物医药数据科学25205601,生物医药数据科学25205602 | M2: 51(3) | O2: 专业教育 | P2: 考试 | Q2: 化学学院 | R2: 化学系 | S2: 笔试 | T2: 闭卷 | U2: 否 | V2: 是 | W2: 否
A3: 人工智能学院 | B3: 2025 | C3: 生物医药数据科学 | D3: 2 | E3: 2026-2027-1 | F3: 1112051040 | G3: 化学基础及实验（二） | H3: 必修 | I3: 3 | J3: 68 | K3: 2 | L3: 生物医药数据科学25205601,生物医药数据科学25205602 | M3: 34(2) | N3: 34(2) | O3: 专业教育 | P3: 考试 | Q3: 化学学院 | R3: 化学系 | S3: 笔试 | T3: 闭卷 | U3: 否 | W3: 是
A4: 人工智能学院 | B4: 2025 | C4: 生物统计学 | D4: 1 | E4: 2026-2027-1 | F4: 1112051040 | G4: 化学基础及实验（二） | H4: 必修 | I4: 3 | J4: 68 | K4: 1 | L4: 生物统计学25205701 | M4: 34(2) | N4: 34(2) | O4: 专业教育 | P4: 考试 | Q4: 化学学院 | R4: 化学系 | S4: 笔试 | T4: 闭卷 | U4: 否 | W4: 是
A5: 基础医学与临床药学学院 | B5: 2025 | C5: 临床药学 | D5: 3 | E5: 2026-2027-1 | F5: 1112051040 | G5: 化学基础及实验（二） | H5: 必修 | I5: 3 | J5: 68 | K5: 3 | L5: 临床药学25213101,临床药学25213102,临床药学25213103 | M5: 34(2) | N5: 34(2) | O5: 专业教育 | P5: 考试 | Q5: 化学学院 | R5: 化学系 | S5: 笔试 | T5: 闭卷 | U5: 否 | W5: 是
A6: 基础医学与临床药学学院 | B6: 2025 | C6: 临床药学（中外合作办学） | D6: 2 | E6: 2026-2027-1 | F6: 1112051014 | G6: Chemical Basis and Lab II | H6: 必修 | I6: 3 | J6: 68 | K6: 2 | L6: 临床药学（中外）25213201,临床药学（中外）25213202 | M6: 34(2) | N6: 34(2) | O6: 专业教育 | P6: 考试 | Q6: 化学学院 | R6: 化学系 | S6: 笔试 | T6: 闭卷 | U6: 否 | W6: 是
A7: 国际医药商学院 | B7: 2025 | C7: 医疗产品管理 | D7: 2 | E7: 2026-2027-1 | F7: 1112051011 | G7: 化学基础与实验（二） | H7: 必修 | I7: 3 | J7: 68 | K7: 2 | L7: 医疗产品管理25204801,医疗产品管理25204802 | M7: 34(0) | N7: 34(0) | O7: 专业教育 | P7: 考试 | Q7: 化学学院 | R7: 化学系 | S7: 笔试 | T7: 闭卷 | U7: 否 | W7: 是
A8: 国际医药商学院 | B8: 2025 | C8: 药事管理 | D8: 3 | E8: 2026-2027-1 | F8: 1112051011 | G8: 化学基础与实验（二） | H8: 必修 | I8: 3 | J8: 68 | K8: 3 | L8: 药事管理25204501,药事管理25204502,药事管理25204503 | M8: 34(0) | N8: 34(0) | O8: 专业教育 | P8: 考试 | Q8: 化学学院 | R8: 化学系 | S8: 笔试 | T8: 闭卷 | U8: 否 | W8: 是
A9: 国际医药商学院 | B9: 2025 | C9: 健康服务与管理 | D9: 2 | E9: 2026-2027-1 | F9: 1112051011 | G9: 化学基础与实验（二） | H9: 必修 | I9: 3 | J9: 68 | K9: 2 | L9: 健康服务与管理25204701,健康服务与管理25204702 | M9: 34(0) | N9: 34(0) | O9: 专业教育 | P9: 考试 | Q9: 化学学院 | R9: 化学系 | S9: 笔试 | T9: 闭卷 | U9: 否 | W9: 是
A10: 国际医药商学院 | B10: 2025 | C10: 工商管理 | D10: 2 | E10: 2026-2027-1 | F10: 1112051011 | G10: 化学基础与实验（二） | H10: 必修 | I10: 3 | J10: 68 | K10: 2 | L10: 工管25204201,工管25204202 | M10: 34(0) | N10: 34(0) | O10: 专业教育 | P10: 考试 | Q10: 化学学院 | R10: 化学系 | S10: 笔试 | T10: 闭卷 | U10: 否 | W10: 是
A11: 生命科学与技术学院 | B11: 2025 | C11: 药学（生化与药理方向） | D11: 3 | E11: 2026-2027-1 | F11: 1112050351 | G11: Instrumental Analysis | H11: 必修 | I11: 3 | J11: 51 | K11: 3 | L11: 药学（中外）25203501,药学（中外）25203502,药学（中外）25203503 | M11: 51(3) | O11: 专业教育 | P11: 考试 | Q11: 化学学院 | R11: 化学系 | S11: 笔试 | T11: 闭卷 | U11: 是 | V11: 46324 | W11: 否
A12: 化学学院 | B12: 2026 | C12: 民族预科生（新疆西藏） | D12: 1 | E12: 2026-2027-1 | F12: 1712050010 | G12: 基础化学（一） | H12: 必修 | I12: 2 | J12: 34 | K12: 1 | L12: 民族预科26205301 | M12: 34(2) | O12: 通识教育 | P12: 考试 | Q12: 化学学院 | R12: 化学系 | S12: 笔试 | T12: 闭卷 | U12: 是 | V12: 11月25日上午3-4节 | W12: 否
A13: 工学院 | B13: 2026 | C13: 生物医学工程 | D13: 1 | E13: 2026-2027-1 | F13: 1712050010 | G13: 基础化学（一） | H13: 必修 | I13: 2 | J13: 34 | K13: 1 | L13: 生物医学工程26212601 | M13: 34(2) | O13: 通识教育 | P13: 考试 | Q13: 化学学院 | R13: 化学系 | S13: 笔试 | T13: 闭卷 | U13: 否 | W13: 是
A14: 化学学院 | B14: 2026 | C14: 民族预科生（非新疆西藏） | D14: 1 | E14: 2026-2027-1 | F14: 1712050009 | G14: 基础化学（一） | H14: 必修 | I14: 4 | J14: 68 | K14: 1 | L14: 民族预科26205501 | M14: 68(4) | O14: 通识教育 | P14: 考试 | Q14: 化学学院 | R14: 化学系 | S14: 笔试 | T14: 闭卷 | U14: 是 | V14: 11月25日上午1-2节 | W14: 否
A15: 孟目的学院 | B15: 2026 | C15: 药学（杰出药学家实验班） | D15: 2 | E15: 2026-2027-1 | F15: 1112051044 | G15: 化学I：化学原理 | H15: 必修 | I15: 4 | J15: 70 | K15: 2 | L15: 杰出药学家班26240101,杰出药学家班26240102 | M15: 70(4) | O15: 专业教育 | P15: 考试 | Q15: 化学学院 | R15: 化学系 | S15: 笔试 | T15: 闭卷 | U15: 否 | W15: 是
A16: 孟目的学院 | B16: 2026 | C16: 临床药学（卓越药师实验班） | D16: 1 | E16: 2026-2027-1 | F16: 1112051044 | G16: 化学I：化学原理 | H16: 必修 | I16: 4 | J16: 70 | K16: 1 | L16: 临床药学（卓越药师班）26213301 | M16: 70(4) | O16: 通识教育 | P16: 考试 | Q16: 化学学院 | R16: 化学系 | S16: 笔试 | T16: 闭卷 | U16: 否 | W16: 是
A17: 孟目的学院 | B17: 2026 | C17: 拔尖MTN | D17: 8 | E17: 2026-2027-1 | F17: 1112051044 | G17: 化学I：化学原理 | H17: 必修 | I17: 4 | J17: 70 | M17: 70(4) | O17: 通识教育 | P17: 考试 | Q17: 化学学院 | R17: 化学系 | S17: 笔试 | T17: 闭卷 | U17: 否 | W17: 是
A18: 药学院 | B18: 2026 | C18: 药学类 | D18: 27 | E18: 2026-2027-1 | F18: 1112051025 | G18: 基础化学（一） | H18: 必修 | I18: 2 | J18: 42 | K18: 27 | L18: 药学类26201001,药学类26201002,药学类26201003,药学类26201004,药学类26201005,药学类26201006,药学类26201007,药学类26201008,药学类26201009,药学类26201010,药学类26201011,药学类26201012,药学类26201013,药学类26201014,药学类26201015,药学类26201016,药学类26201017,药学类26201018,药学类26201019,药学类26201020,药学类26201021,药学类26201022,药学类26201023,药学类26201024,药学类26201025,药学类26201026,药学类26201027 | M18: 34(0) | O18: 专业教育 | P18: 考试 | Q18: 化学学院 | R18: 化学系 | S18: 笔试 | T18: 闭卷 | U18: 否 | W18: 是
A19: 生命科学与技术学院 | B19: 2026 | C19: 药学（生化与药理方向） | D19: 3 | E19: 2026-2027-1 | F19: 1112050367 | G19: Basic Chemistry 1 | H19: 必修 | I19: 2 | J19: 34 | K19: 3 | L19: 药学（中外）26203501,药学（中外）26203502,药学（中外）26203503 | M19: 34(2) | O19: 专业教育 | P19: 考试 | Q19: 化学学院 | R19: 化学系 | S19: 笔试 | T19: 闭卷 | U19: 否 | W19: 是
A20: 中药学院 | B20: 2026 | C20: 中药学类 | D20: 11 | E20: 2026-2027-1 | F20: 1112050306 | G20: 基础化学（一） | H20: 必修 | I20: 3 | J20: 51 | K20: 11 | L20: 中药学类26202001,中药学类26202002,中药学类26202003,中药学类26202004,中药学类26202005,中药学类26202006,中药学类26202007,中药学类26202008,中药学类26202009,中药学类26202010,中药学类26202011 | M20: 51(3) | O20: 专业教育 | P20: 考试 | Q20: 化学学院 | R20: 化学系 | S20: 笔试 | T20: 闭卷 | U20: 否 | W20: 是
A21: 中药学院 | B21: 2026 | C21: 化妆品科学与技术 | D21: 2 | E21: 2026-2027-1 | F21: 1112050306 | G21: 基础化学（一） | H21: 必修 | I21: 3 | J21: 51 | K21: 2 | L21: 化妆品26202601,化妆品26202602 | M21: 51(3) | O21: 专业教育 | P21: 考试 | Q21: 化学学院 | R21: 化学系 | S21: 笔试 | T21: 闭卷 | U21: 否 | W21: 是
A22: 生物药物学院 | B22: 2026 | C22: 生物制药 | D22: 8 | E22: 2026-2027-1 | F22: 1112050306 | G22: 基础化学（一） | H22: 必修 | I22: 3 | J22: 51 | K22: 8 | L22: 生物制药26203401,生物制药26203402,生物制药26203403,生物制药26203404,生物制药26203405,生物制药26203406,生物制药26203407,生物制药26203408 | M22: 51(3) | O22: 专业教育 | P22: 考试 | Q22: 化学学院 | R22: 化学系 | S22: 笔试 | T22: 闭卷 | U22: 否 | W22: 是
A23: 生命科学与技术学院 | B23: 2026 | C23: 生物技术 | D23: 2 | E23: 2026-2027-1 | F23: 1112050306 | G23: 基础化学（一） | H23: 必修 | I23: 3 | J23: 51 | K23: 2 | L23: 生物技术26203201,生物技术26203202 | M23: 51(3) | O23: 专业教育 | P23: 考试 | Q23: 化学学院 | R23: 化学系 | S23: 笔试 | T23: 闭卷 | U23: 否 | W23: 是
A24: 生命科学与技术学院 | B24: 2026 | C24: 海洋药学 | D24: 2 | E24: 2026-2027-1 | F24: 1112050306 | G24: 基础化学（一） | H24: 必修 | I24: 3 | J24: 51 | K24: 2 | L24: 海洋药学26203301,海洋药学26203302 | M24: 51(3) | O24: 专业教育 | P24: 考试 | Q24: 化学学院 | R24: 化学系 | S24: 笔试 | T24: 闭卷 | U24: 否 | W24: 是
A25: 工学院 | B25: 2026 | C25: 食品质量与安全 | D25: 1 | E25: 2026-2027-1 | F25: 1112050306 | G25: 基础化学（一） | H25: 必修 | I25: 3 | J25: 51 | K25: 1 | L25: 食品质量与安全26212701 | M25: 51(3) | O25: 专业教育 | P25: 考试 | Q25: 化学学院 | R25: 化学系 | S25: 笔试 | T25: 闭卷 | U25: 否 | W25: 是
A26: 工学院 | B26: 2026 | C26: 化工与制药类 | D26: 7 | E26: 2026-2027-1 | F26: 1112050306 | G26: 基础化学（一） | H26: 必修 | I26: 3 | J26: 51 | K26: 7 | L26: 化工与制药类26212001,化工与制药类26212002,化工与制药类26212003,化工与制药类26212004,化工与制药类26212005,化工与制药类26212006,化工与制药类26212007 | M26: 51(3) | O26: 专业教育 | P26: 考试 | Q26: 化学学院 | R26: 化学系 | S26: 笔试 | T26: 闭卷 | U26: 否 | W26: 是
A27: 孟目的学院 | B27: 2025 | C27: 拔尖MTN | D27: 10 | E27: 2026-2027-1 | F27: 1112050383 | G27: Python与医药数据处理 | H27: 必修 | I27: 3 | J27: 68 | K27: 10 | L27: 拔尖MTN25216101,拔尖MTN25216102,拔尖MTN25216103,拔尖MTN25216104,拔尖MTN25216105,拔尖MTN25216106,拔尖MTN25216107,拔尖MTN25216108,拔尖MTN25216109,拔尖MTN25216110 | M27: 34(2) | N27: 34(2) | O27: 通识教育 | P27: 考试 | Q27: 人工智能学院 | S27: 上机考试 | T27: 闭卷 | U27: 是 | V27: 第十周 | W27: 否
A28: 人工智能学院 | B28: 2024 | C28: 生物医药数据科学 | D28: 2 | E28: 2026-2027-1 | F28: 1112051021 | G28: 深度学习 | H28: 必修 | I28: 3 | J28: 68 | K28: 2 | L28: 生物医药数据科学24205601,生物医药数据科学24205602 | M28: 34(2) | N28: 34(2) | O28: 专业教育 | P28: 考试 | Q28: 人工智能学院 | R28: 数据科学系 | S28: 上机考试 | T28: 闭卷 | U28: 是 | V28: 第九周 | W28: 否
A29: 人工智能学院 | B29: 2024 | C29: 生物医药数据科学 | D29: 2 | E29: 2026-2027-1 | F29: 1112050388 | G29: 大数据技术原理与应用 | H29: 必修 | I29: 3 | J29: 68 | K29: 2 | L29: 生物医药数据科学24205601,生物医药数据科学24205602 | M29: 34(2) | N29: 34(2) | O29: 专业教育 | P29: 考试 | Q29: 人工智能学院 | R29: 数据科学系 | S29: 上机考试 | T29: 开卷 | U29: 是 | V29: 第十三周 | W29: 否
A30: 人工智能学院 | B30: 2024 | C30: 生物医药数据科学 | D30: 2 | E30: 2026-2027-1 | F30: 1112050316 | G30: 网络数据采集方法与工具 | H30: 必修 | I30: 3 | J30: 68 | K30: 2 | L30: 生物医药数据科学24205601,生物医药数据科学24205602 | M30: 34(2) | N30: 34(4) | O30: 专业教育 | P30: 考试 | Q30: 人工智能学院 | R30: 数据科学系 | S30: 上机考试 | T30: 闭卷 | U30: 是 | V30: 第九周 | W30: 否
A31: 人工智能学院 | B31: 2025 | C31: 生物医药数据科学 | D31: 2 | E31: 2026-2027-1 | F31: 1112050386 | G31: Linux开发基础 | H31: 必修 | I31: 0.5 | J31: 17 | K31: 2 | L31: 生物医药数据科学25205601,生物医药数据科学25205602 | N31: 17(1) | O31: 专业教育 | P31: 考查 | Q31: 人工智能学院 | R31: 数据科学系 | S31: 上机考试 | T31: 开卷 | U31: 是 | V31: 第九周 | W31: 否
A32: 人工智能学院 | B32: 2025 | C32: 生物医药数据科学 | D32: 2 | E32: 2026-2027-1 | F32: 1112050315 | G32: 数据科学基础 | H32: 必修 | I32: 3 | J32: 68 | K32: 2 | L32: 生物医药数据科学25205601,生物医药数据科学25205602 | M32: 34(2) | N32: 34(4) | O32: 专业教育 | P32: 考试 | Q32: 人工智能学院 | R32: 数据科学系 | S32: 上机考试 | T32: 开卷 | U32: 是 | V32: 第八周 | W32: 否
A33: 人工智能学院 | B33: 2025 | C33: 生物统计学 | D33: 1 | E33: 2026-2027-1 | F33: 1112050315 | G33: 数据科学基础 | H33: 必修 | I33: 3 | J33: 68 | K33: 1 | L33: 生物统计学25205701 | M33: 34(2) | N33: 34(4) | O33: 专业教育 | P33: 考试 | Q33: 人工智能学院 | R33: 数据科学系 | S33: 上机考试 | T33: 开卷 | U33: 是 | V33: 第八周 | W33: 否
A34: 人工智能学院 | B34: 2025 | C34: 生物医药数据科学 | D34: 2 | E34: 2026-2027-1 | F34: 1112050216 | G34: 数据库原理与应用 | H34: 必修 | I34: 4 | J34: 85 | K34: 2 | L34: 生物医药数据科学25205601,生物医药数据科学25205602 | M34: 51(3) | N34: 34(3) | O34: 专业教育 | P34: 考试 | Q34: 人工智能学院 | R34: 数据科学系 | S34: 上机考试 | T34: 闭卷 | U34: 是 | V34: 第十三周 | W34: 否
A35: 中药学院 | B35: 2026 | C35: 中药学类 | D35: 11 | E35: 2026-2027-1 | F35: 1112051063 | G35: 人工智能通识 | H35: 必修 | I35: 1.5 | J35: 34 | K35: 11 | L35: 中药学类26202001,中药学类26202002,中药学类26202003,中药学类26202004,中药学类26202005,中药学类26202006,中药学类26202007,中药学类26202008,中药学类26202009,中药学类26202010,中药学类26202011 | M35: 17(0) | N35: 17(0) | O35: 通识教育 | P35: 考试 | Q35: 人工智能学院 | R35: 数据科学系 | S35: 设计性作业 | T35: 开卷 | U35: 是 | V35: 11周、12周 | W35: 否
A36: 中药学院 | B36: 2026 | C36: 化妆品科学与技术 | D36: 2 | E36: 2026-2027-1 | F36: 1112051063 | G36: 人工智能通识 | H36: 必修 | I36: 1.5 | J36: 34 | K36: 2 | L36: 化妆品26202601,化妆品26202602 | M36: 17(0) | N36: 17(0) | O36: 通识教育 | P36: 考试 | Q36: 人工智能学院 | R36: 数据科学系 | S36: 设计性作业 | T36: 开卷 | U36: 是 | V36: 11周、12周 | W36: 否
A37: 药学院 | B37: 2026 | C37: 药学类 | D37: 27 | E37: 2026-2027-1 | F37: 1112051063 | G37: 人工智能通识 | H37: 必修 | I37: 1.5 | J37: 34 | K37: 27 | L37: 药学类26201001,药学类26201002,药学类26201003,药学类26201004,药学类26201005,药学类26201006,药学类26201007,药学类26201008,药学类26201009,药学类26201010,药学类26201011,药学类26201012,药学类26201013,药学类26201014,药学类26201015,药学类26201016,药学类26201017,药学类26201018,药学类26201019,药学类26201020,药学类26201021,药学类26201022,药学类26201023,药学类26201024,药学类26201025,药学类26201026,药学类26201027 | M37: 17(0) | N37: 17(0) | O37: 通识教育 | P37: 考试 | Q37: 人工智能学院 | R37: 数据科学系 | S37: 设计性作业 | T37: 开卷 | U37: 是 | V37: 11周、12周 | W37: 否
A38: 外国语学院 | B38: 2026 | C38: 英语 | D38: 6 | E38: 2026-2027-1 | F38: 1112051063 | G38: 人工智能通识 | H38: 必修 | I38: 1.5 | J38: 34 | K38: 6 | L38: 英语26209101,英语26209102,英语26209103,英语26209104,英语26209105,英语26209106 | M38: 17(0) | N38: 17(0) | O38: 通识教育 | P38: 考试 | Q38: 人工智能学院 | R38: 数据科学系 | S38: 设计性作业 | T38: 开卷 | U38: 是 | V38: 11周、12周 | W38: 否
A39: 生物药物学院 | B39: 2026 | C39: 生物制药 | D39: 8 | E39: 2026-2027-1 | F39: 1112051063 | G39: 人工智能通识 | H39: 必修 | I39: 1.5 | J39: 34 | K39: 8 | L39: 生物制药26203401,生物制药26203402,生物制药26203403,生物制药26203404,生物制药26203405,生物制药26203406,生物制药26203407,生物制药26203408 | M39: 17(0) | N39: 17(0) | O39: 通识教育 | P39: 考试 | Q39: 人工智能学院 | R39: 数据科学系 | S39: 设计性作业 | T39: 开卷 | U39: 是 | V39: 11周、12周 | W39: 否
A40: 生命科学与技术学院 | B40: 2026 | C40: 药学（生化与药理方向） | D40: 3 | E40: 2026-2027-1 | F40: 1112051063 | G40: 人工智能通识 | H40: 必修 | I40: 1.5 | J40: 34 | K40: 3 | L40: 药学（中外）26203501,药学（中外）26203502,药学（中外）26203503 | M40: 17(0) | N40: 17(0) | O40: 通识教育 | P40: 考试 | Q40: 人工智能学院 | R40: 数据科学系 | S40: 设计性作业 | T40: 开卷 | U40: 是 | V40: 11周、12周 | W40: 否
A41: 生命科学与技术学院 | B41: 2026 | C41: 生物技术 | D41: 2 | E41: 2026-2027-1 | F41: 1112051063 | G41: 人工智能通识 | H41: 必修 | I41: 1.5 | J41: 34 | K41: 2 | L41: 生物技术26203201,生物技术26203202 | M41: 17(0) | N41: 17(0) | O41: 通识教育 | P41: 考试 | Q41: 人工智能学院 | R41: 数据科学系 | S41: 设计性作业 | T41: 开卷 | U41: 是 | V41: 11周、12周 | W41: 否
A42: 生命科学与技术学院 | B42: 2026 | C42: 海洋药学 | D42: 2 | E42: 2026-2027-1 | F42: 1112051063 | G42: 人工智能通识 | H42: 必修 | I42: 1.5 | J42: 34 | K42: 2 | L42: 海洋药学26203301,海洋药学26203302 | M42: 17(0) | N42: 17(0) | O42: 通识教育 | P42: 考试 | Q42: 人工智能学院 | R42: 数据科学系 | S42: 设计性作业 | T42: 开卷 | U42: 是 | V42: 11周、12周 | W42: 否
A43: 孟目的学院 | B43: 2026 | C43: 药学（杰出药学家实验班） | D43: 2 | E43: 2026-2027-1 | F43: 1112051063 | G43: 人工智能通识 | H43: 必修 | I43: 1.5 | J43: 34 | K43: 2 | L43: 杰出药学家班26240101,杰出药学家班26240102 | M43: 17(0) | N43: 17(0) | O43: 通识教育 | P43: 考试 | Q43: 人工智能学院 | R43: 数据科学系 | S43: 设计性作业 | T43: 开卷 | U43: 是 | V43: 11周、12周 | W43: 否
A44: 孟目的学院 | B44: 2026 | C44: 临床药学（卓越药师实验班） | D44: 1 | E44: 2026-2027-1 | F44: 1112051063 | G44: 人工智能通识 | H44: 必修 | I44: 1.5 | J44: 34 | K44: 1 | L44: 临床药学（卓越药师班）26213301 | M44: 17(0) | N44: 17(0) | O44: 通识教育 | P44: 考试 | Q44: 人工智能学院 | R44: 数据科学系 | S44: 设计性作业 | T44: 开卷 | U44: 是 | V44: 11周、12周 | W44: 否
A45: 孟目的学院 | B45: 2026 | C45: 拔尖MTN | D45: 8 | E45: 2026-2027-1 | F45: 1112051063 | G45: 人工智能通识 | H45: 必修 | I45: 1.5 | J45: 34 | M45: 17(0) | N45: 17(0) | O45: 通识教育 | P45: 考试 | Q45: 人工智能学院 | R45: 数据科学系 | S45: 设计性作业 | T45: 开卷 | U45: 是 | V45: 11周、12周 | W45: 否
A46: 基础医学与临床药学学院 | B46: 2026 | C46: 临床药学 | D46: 3 | E46: 2026-2027-1 | F46: 1112051063 | G46: 人工智能通识 | H46: 必修 | I46: 1.5 | J46: 34 | K46: 3 | L46: 临床药学26213101,临床药学26213102,临床药学26213103 | M46: 17(0) | N46: 17(0) | O46: 通识教育 | P46: 考试 | Q46: 人工智能学院 | R46: 数据科学系 | S46: 设计性作业 | T46: 开卷 | U46: 是 | V46: 11周、12周 | W46: 否
A47: 国际医药商学院 | B47: 2026 | C47: 药物经济与管理 | D47: 1 | E47: 2026-2027-1 | F47: 1112051063 | G47: 人工智能通识 | H47: 必修 | I47: 1.5 | J47: 34 | K47: 1 | L47: 药物经管26204301 | M47: 17(0) | N47: 17(0) | O47: 通识教育 | P47: 考试 | Q47: 人工智能学院 | R47: 数据科学系 | S47: 设计性作业 | T47: 开卷 | U47: 是 | V47: 11周、12周 | W47: 否
A48: 国际医药商学院 | B48: 2026 | C48: 药事管理 | D48: 2 | E48: 2026-2027-1 | F48: 1112051063 | G48: 人工智能通识 | H48: 必修 | I48: 1.5 | J48: 34 | K48: 2 | L48: 药事管理26204501,药事管理26204502 | N48: 17(0) | O48: 通识教育 | P48: 考试 | Q48: 人工智能学院 | R48: 数据科学系 | S48: 设计性作业 | T48: 开卷 | U48: 是 | V48: 11周、12周 | W48: 否
A49: 国际医药商学院 | B49: 2026 | C49: 经济管理试验班 | D49: 8 | E49: 2026-2027-1 | F49: 1112051063 | G49: 人工智能通识 | H49: 必修 | I49: 1.5 | J49: 34 | K49: 8 | L49: 经管试验班26204001,经管试验班26204002,经管试验班26204003,经管试验班26204004,经管试验班26204005,经管试验班26204006,经管试验班26204007,经管试验班26204008 | M49: 17(0) | N49: 17(0) | O49: 通识教育 | P49: 考试 | Q49: 人工智能学院 | R49: 数据科学系 | S49: 设计性作业 | T49: 开卷 | U49: 是 | V49: 11周、12周 | W49: 否
A50: 工学院 | B50: 2026 | C50: 食品质量与安全 | D50: 1 | E50: 2026-2027-1 | F50: 1112051063 | G50: 人工智能通识 | H50: 必修 | I50: 1.5 | J50: 34 | K50: 1 | L50: 食品质量与安全26212701 | M50: 17(0) | N50: 17(0) | O50: 专业教育 | P50: 考试 | Q50: 人工智能学院 | R50: 数据科学系 | S50: 设计性作业 | T50: 开卷 | U50: 是 | V50: 11周、12周 | W50: 否
A51: 工学院 | B51: 2026 | C51: 生物医学工程 | D51: 1 | E51: 2026-2027-1 | F51: 1112051063 | G51: 人工智能通识 | H51: 必修 | I51: 1.5 | J51: 34 | K51: 1 | L51: 生物医学工程26212601 | M51: 17(0) | N51: 17(0) | O51: 通识教育 | P51: 考试 | Q51: 人工智能学院 | R51: 数据科学系 | S51: 设计性作业 | T51: 开卷 | U51: 是 | V51: 11周、12周 | W51: 否
A52: 工学院 | B52: 2026 | C52: 化工与制药类 | D52: 7 | E52: 2026-2027-1 | F52: 1112051063 | G52: 人工智能通识 | H52: 必修 | I52: 1.5 | J52: 34 | K52: 7 | L52: 化工与制药类26212001,化工与制药类26212002,化工与制药类26212003,化工与制药类26212004,化工与制药类26212005,化工与制药类26212006,化工与制药类26212007 | M52: 17(0) | N52: 17(0) | O52: 通识教育 | P52: 考试 | Q52: 人工智能学院 | R52: 数据科学系 | S52: 设计性作业 | T52: 开卷 | U52: 是 | V52: 11周、12周 | W52: 否
A53: 人工智能学院 | B53: 2025 | C53: 生物医药数据科学 | D53: 2 | E53: 2026-2027-1 | F53: 1112051022 | G53: 生物化学 | H53: 必修 | I53: 3 | J53: 51 | K53: 2 | L53: 生物医药数据科学25205601,生物医药数据科学25205602 | M53: 51(3) | O53: 专业教育 | P53: 考试 | Q53: 人工智能学院 | R53: 数理系 | S53: 笔试 | T53: 闭卷 | U53: 随堂 | V53: 10周 | W53: 否
A54: 人工智能学院 | B54: 2025 | C54: 生物统计学 | D54: 1 | E54: 2026-2027-1 | F54: 1112050327 | G54: 科学计算 | H54: 必修 | I54: 3 | J54: 51 | K54: 1 | L54: 生物统计学25205701 | M54: 51(2) | O54: 专业教育 | P54: 考试 | Q54: 人工智能学院 | R54: 数理系 | S54: 笔试 | T54: 闭卷 | U54: 是 | V54: 46330 | W54: 否
A55: 化学学院 | B55: 2026 | C55: 民族预科生（新疆西藏） | D55: 1 | E55: 2026-2027-1 | F55: 1712050006 | G55: 基础物理（一） | H55: 必修 | I55: 2 | J55: 34 | K55: 1 | L55: 民族预科26205301 | M55: 34(2) | O55: 通识教育 | P55: 考试 | Q55: 人工智能学院 | R55: 数理系 | S55: 笔试 | T55: 闭卷 | U55: 随堂 | V55: 12周 | W55: 否
A56: 化学学院 | B56: 2026 | C56: 民族预科生（非新疆西藏） | D56: 1 | E56: 2026-2027-1 | F56: 1712050005 | G56: 基础物理（一） | H56: 必修 | I56: 3 | J56: 51 | K56: 1 | L56: 民族预科26205501 | M56: 51(3) | O56: 通识教育 | P56: 考试 | Q56: 人工智能学院 | R56: 数理系 | S56: 笔试 | T56: 闭卷 | U56: 随堂 | V56: 10周 | W56: 否
A57: 工学院 | B57: 2026 | C57: 生物医学工程 | D57: 1 | E57: 2026-2027-1 | F57: 1712050005 | G57: 基础物理（一） | H57: 必修 | I57: 3 | J57: 51 | K57: 1 | L57: 生物医学工程26212601 | M57: 51(3) | O57: 通识教育 | P57: 考试 | Q57: 人工智能学院 | R57: 数理系 | S57: 笔试 | T57: 闭卷 | U57: 随堂 | V57: 12周 | W57: 否
A58: 化学学院 | B58: 2026 | C58: 民族预科生（新疆西藏） | D58: 1 | E58: 2026-2027-1 | F58: 1712050002 | G58: 高等数学（一） | H58: 必修 | I58: 4 | J58: 68 | K58: 1 | L58: 民族预科26205301 | M58: 68(4) | O58: 通识教育 | P58: 考试 | Q58: 人工智能学院 | R58: 数理系 | S58: 笔试 | T58: 闭卷 | U58: 是 | V58: 46336 | W58: 否
A59: 化学学院 | B59: 2026 | C59: 民族预科生（非新疆西藏） | D59: 1 | E59: 2026-2027-1 | F59: 1712050001 | G59: 高等数学（一） | H59: 必修 | I59: 3 | J59: 51 | K59: 1 | L59: 民族预科26205501 | M59: 51(3) | O59: 通识教育 | P59: 考试 | Q59: 人工智能学院 | R59: 数理系 | S59: 笔试 | T59: 闭卷 | U59: 是 | V59: 46332 | W59: 否
A60: 孟目的学院 | B60: 2026 | C60: 药学（杰出药学家实验班） | D60: 2 | E60: 2026-2027-1 | F60: 1112051046 | G60: 高等数学（一） | H60: 必修 | I60: 3 | J60: 51 | K60: 2 | L60: 杰出药学家班26240101,杰出药学家班26240102 | M60: 51(3) | O60: 专业教育 | P60: 考试 | Q60: 人工智能学院 | R60: 数理系 | S60: 笔试 | T60: 闭卷 | U60: 否 | W60: 是
A61: 孟目的学院 | B61: 2026 | C61: 临床药学（卓越药师实验班） | D61: 1 | E61: 2026-2027-1 | F61: 1112051046 | G61: 高等数学（一） | H61: 必修 | I61: 3 | J61: 51 | K61: 1 | L61: 临床药学（卓越药师班）26213301 | M61: 51(3) | O61: 通识教育 | P61: 考试 | Q61: 人工智能学院 | R61: 数理系 | S61: 笔试 | T61: 闭卷 | U61: 否 | W61: 是
A62: 孟目的学院 | B62: 2026 | C62: 拔尖MTN | D62: 8 | E62: 2026-2027-1 | F62: 1112051046 | G62: 高等数学（一） | H62: 必修 | I62: 3 | J62: 51 | M62: 51(3) | O62: 通识教育 | P62: 考试 | Q62: 人工智能学院 | R62: 数理系 | S62: 笔试 | T62: 闭卷 | U62: 否 | W62: 是
A63: 基础医学与临床药学学院 | B63: 2026 | C63: 临床药学（中外合作办学） | D63: 2 | E63: 2026-2027-1 | F63: 1112051012 | G63: Advanced Mathematics I | H63: 必修 | I63: 3 | J63: 51 | K63: 2 | L63: 临床药学（中外）26213201,临床药学（中外）26213202 | M63: 51(3) | O63: 专业教育 | P63: 考试 | Q63: 人工智能学院 | R63: 数理系 | S63: 笔试 | T63: 闭卷 | U63: 否 | W63: 是
A64: 人工智能学院 | B64: 2026 | C64: 生物医药数据科学 | D64: 2 | E64: 2026-2027-1 | F64: 1112050323 | G64: 高等代数 | H64: 必修 | I64: 3 | J64: 51 | K64: 2 | L64: 生物医药数据科学26205601,生物医药数据科学26205602 | M64: 51(3) | O64: 专业教育 | P64: 考试 | Q64: 人工智能学院 | R64: 数理系 | S64: 笔试 | T64: 闭卷 | U64: 否 | W64: 是
A65: 人工智能学院 | B65: 2026 | C65: 生物统计学 | D65: 1 | E65: 2026-2027-1 | F65: 1112050323 | G65: 高等代数 | H65: 必修 | I65: 3 | J65: 51 | K65: 1 | L65: 生物统计学26205701 | M65: 51(3) | O65: 专业教育 | P65: 考试 | Q65: 人工智能学院 | R65: 数理系 | S65: 笔试 | T65: 闭卷 | U65: 否 | W65: 是
A66: 人工智能学院 | B66: 2026 | C66: 生物医药数据科学 | D66: 2 | E66: 2026-2027-1 | F66: 1112050238 | G66: 高等数学（一） | H66: 必修 | I66: 4 | J66: 68 | K66: 2 | L66: 生物医药数据科学26205601,生物医药数据科学26205602 | M66: 68(2) | O66: 专业教育 | P66: 考试 | Q66: 人工智能学院 | R66: 数理系 | S66: 笔试 | T66: 闭卷 | U66: 否 | W66: 是
A67: 人工智能学院 | B67: 2026 | C67: 生物统计学 | D67: 1 | E67: 2026-2027-1 | F67: 1112050238 | G67: 高等数学（一） | H67: 必修 | I67: 4 | J67: 68 | K67: 1 | L67: 生物统计学26205701 | M67: 68(2) | O67: 专业教育 | P67: 考试 | Q67: 人工智能学院 | R67: 数理系 | S67: 笔试 | T67: 闭卷 | U67: 否 | W67: 是
A68: 中药学院 | B68: 2026 | C68: 中药学类 | D68: 11 | E68: 2026-2027-1 | F68: 1112050237 | G68: 高等数学（一） | H68: 必修 | I68: 3 | J68: 51 | K68: 11 | L68: 中药学类26202001,中药学类26202002,中药学类26202003,中药学类26202004,中药学类26202005,中药学类26202006,中药学类26202007,中药学类26202008,中药学类26202009,中药学类26202010,中药学类26202011 | M68: 51(4) | O68: 专业教育 | P68: 考试 | Q68: 人工智能学院 | R68: 数理系 | S68: 笔试 | T68: 闭卷 | U68: 否 | W68: 是
A69: 中药学院 | B69: 2026 | C69: 化妆品科学与技术 | D69: 2 | E69: 2026-2027-1 | F69: 1112050237 | G69: 高等数学（一） | H69: 必修 | I69: 3 | J69: 51 | K69: 2 | L69: 化妆品26202601,化妆品26202602 | M69: 51(4) | O69: 专业教育 | P69: 考试 | Q69: 人工智能学院 | R69: 数理系 | S69: 笔试 | T69: 闭卷 | U69: 否 | W69: 是
A70: 药学院 | B70: 2026 | C70: 药学类 | D70: 27 | E70: 2026-2027-1 | F70: 1112050237 | G70: 高等数学（一） | H70: 必修 | I70: 3 | J70: 51 | K70: 27 | L70: 药学类26201001,药学类26201002,药学类26201003,药学类26201004,药学类26201005,药学类26201006,药学类26201007,药学类26201008,药学类26201009,药学类26201010,药学类26201011,药学类26201012,药学类26201013,药学类26201014,药学类26201015,药学类26201016,药学类26201017,药学类26201018,药学类26201019,药学类26201020,药学类26201021,药学类26201022,药学类26201023,药学类26201024,药学类26201025,药学类26201026,药学类26201027 | M70: 51(4) | O70: 专业教育 | P70: 考试 | Q70: 人工智能学院 | R70: 数理系 | S70: 笔试 | T70: 闭卷 | U70: 否 | W70: 是
A71: 生物药物学院 | B71: 2026 | C71: 生物制药 | D71: 8 | E71: 2026-2027-1 | F71: 1112050237 | G71: 高等数学（一） | H71: 必修 | I71: 3 | J71: 51 | K71: 8 | L71: 生物制药26203401,生物制药26203402,生物制药26203403,生物制药26203404,生物制药26203405,生物制药26203406,生物制药26203407,生物制药26203408 | M71: 51(4) | O71: 专业教育 | P71: 考试 | Q71: 人工智能学院 | R71: 数理系 | S71: 笔试 | T71: 闭卷 | U71: 否 | W71: 是
A72: 生命科学与技术学院 | B72: 2026 | C72: 药学（生化与药理方向） | D72: 3 | E72: 2026-2027-1 | F72: 1112050237 | G72: 高等数学（一） | H72: 必修 | I72: 3 | J72: 51 | K72: 3 | L72: 药学（中外）26203501,药学（中外）26203502,药学（中外）26203503 | M72: 51(4) | O72: 专业教育 | P72: 考试 | Q72: 人工智能学院 | R72: 数理系 | S72: 笔试 | T72: 闭卷 | U72: 否 | W72: 是
A73: 生命科学与技术学院 | B73: 2026 | C73: 生物技术 | D73: 2 | E73: 2026-2027-1 | F73: 1112050237 | G73: 高等数学（一） | H73: 必修 | I73: 3 | J73: 51 | K73: 2 | L73: 生物技术26203201,生物技术26203202 | M73: 51(4) | O73: 专业教育 | P73: 考试 | Q73: 人工智能学院 | R73: 数理系 | S73: 笔试 | T73: 闭卷 | U73: 否 | W73: 是
A74: 生命科学与技术学院 | B74: 2026 | C74: 海洋药学 | D74: 2 | E74: 2026-2027-1 | F74: 1112050237 | G74: 高等数学（一） | H74: 必修 | I74: 3 | J74: 51 | K74: 2 | L74: 海洋药学26203301,海洋药学26203302 | M74: 51(4) | O74: 专业教育 | P74: 考试 | Q74: 人工智能学院 | R74: 数理系 | S74: 笔试 | T74: 闭卷 | U74: 否 | W74: 是
... A80: 国际医药商学院 | B80: 2026 | C80: 经济管理试验班 | D80: 8 | E80: 2026-2027-1 | F80: 1112050234 | G80: 经济数学（一） | H80: 必修 | I80: 3 | J80: 51 | K80: 8 | L80: 经管试验班26204001,经管试验班26204002,经管试验班26204003,经管试验班26204004,经管试验班26204005,经管试验班26204006,经管试验班26204007,经管试验班26204008 | M80: 51(3) | O80: 专业教育 | P80: 考试 | Q80: 人工智能学院 | R80: 数理系 | S80: 笔试 | T80: 闭卷 | U80: 否 | W80: 是
A81: 国际医药商学院 | B81: 2024 | C81: 工商管理 | D81: 2 | E81: 2026-2027-1 | F81: 1112050225 | G81: 管理信息系统 | H81: 必修 | I81: 2 | J81: 34 | K81: 2 | L81: 工管24204201,工管24204202 | M81: 34(2) | O81: 专业教育 | P81: 考试 | Q81: 人工智能学院 | R81: 医药信息与生物统计系 | S81: 上机考试 | T81: 开卷 | U81: 是 | V81: 第11周 | W81: 否
A82: 化学学院 | B82: 2026 | C82: 民族预科生（新疆西藏） | D82: 1 | E82: 2026-2027-1 | F82: 1712050013 | G82: 计算机基础（一） | H82: 必修 | I82: 1.5 | J82: 34 | K82: 1 | L82: 民族预科26205301 | M82: 17(2) | N82: 17(2) | O82: 通识教育 | P82: 考试 | Q82: 人工智能学院 | R82: 医药信息与生物统计系 | S82: 机试 | T82: 闭卷 | U82: 是 | V82: 46342 | W82: 否
A83: 化学学院 | B83: 2026 | C83: 民族预科生（非新疆西藏） | D83: 1 | E83: 2026-2027-1 | F83: 1712050013 | G83: 计算机基础（一） | H83: 必修 | I83: 1.5 | J83: 34 | K83: 1 | L83: 民族预科26205501 | M83: 17(2) | N83: 17(2) | O83: 通识教育 | P83: 考试 | Q83: 人工智能学院 | R83: 医药信息与生物统计系 | S83: 机试 | T83: 闭卷 | U83: 是 | V83: 46349 | W83: 否
A84: 人工智能学院 | B84: 2026 | C84: 生物医药数据科学 | D84: 2 | E84: 2026-2027-1 | F84: 1112050322 | G84: Python与医药数据处理基础 | H84: 必修 | I84: 3 | J84: 68 | K84: 2 | L84: 生物医药数据科学26205601,生物医药数据科学26205602 | M84: 34(2) | N84: 34(2) | O84: 专业教育 | P84: 考试 | Q84: 人工智能学院 | R84: 医药信息与生物统计系 | S84: 上机考试 | T84: 闭卷 | U84: 是 | V84: 第十三周 | W84: 否
A85: 人工智能学院 | B85: 2026 | C85: 生物统计学 | D85: 1 | E85: 2026-2027-1 | F85: 1112050322 | G85: Python与医药数据处理基础 | H85: 必修 | I85: 3 | J85: 68 | K85: 1 | L85: 生物统计学26205701 | M85: 34(2) | N85: 34(2) | O85: 专业教育 | P85: 考试 | Q85: 人工智能学院 | R85: 医药信息与生物统计系 | S85: 上机考试 | T85: 闭卷 | U85: 是 | V85: 第十三周 | W85: 否
A86: 国际医药商学院 | B86: 2024 | C86: 医疗产品管理 | D86: 1 | E86: 2026-2027-1 | F86: 1112040255 | G86: 卫生技术评估 | H86: 必修 | I86: 2 | J86: 34 | K86: 1 | L86: 医疗产品管理24204801 | M86: 34(2) | O86: 专业教育 | P86: 考试 | Q86: 国际医药商学院 | R86: 医疗产品管理教研室 | S86: 小组汇报 | U86: 是 | V86: 17周 | W86: 否
A87: 国际医药商学院 | B87: 2024 | C87: 工商管理 | D87: 2 | E87: 2026-2027-1 | F87: 1112040019 | G87: 运筹学 | H87: 必修 | I87: 3 | J87: 51 | K87: 2 | L87: 工管24204201,工管24204202 | M87: 51(3) | O87: 专业教育 | P87: 考试 | Q87: 国际医药商学院 | R87: 工商管理教研室 | S87: 笔试 | T87: 闭卷 | U87: 是 | V87: 12周 | W87: 否
A88: 国际医药商学院 | B88: 2025 | C88: 药物经济与管理 | D88: 1 | E88: 2026-2027-1 | F88: 1112040269 | G88: 医学统计学 | H88: 必修 | I88: 4 | J88: 85 | K88: 1 | L88: 药物经管25204301 | M88: 68(4) | O88: 专业教育 | P88: 考试 | Q88: 国际医药商学院 | R88: 工商管理教研室 | S88: 笔试 | T88: 闭卷 | U88: 是 | V88: 第九周星期三上午 | W88: 否
A89: 国际医药商学院 | B89: 2025 | C89: 工商管理 | D89: 2 | E89: 2026-2027-1 | F89: 1112040184 | G89: 统计学 | H89: 必修 | I89: 3 | J89: 51 | K89: 2 | L89: 工管25204201,工管25204202 | M89: 51(3) | O89: 专业教育 | P89: 考试 | Q89: 国际医药商学院 | R89: 工商管理教研室 | S89: 笔试 | T89: 闭卷 | U89: 是 | V89: 第九周星期二上午 | W89: 否
A90: 国际医药商学院 | B90: 2025 | C90: 医疗产品管理 | D90: 2 | E90: 2026-2027-1 | F90: 1112040183 | G90: 统计学 | H90: 必修 | I90: 2 | J90: 34 | K90: 2 | L90: 医疗产品管理25204801,医疗产品管理25204802 | M90: 34(2) | O90: 专业教育 | P90: 考试 | Q90: 国际医药商学院 | R90: 工商管理教研室 | S90: 笔试 | T90: 闭卷 | U90: 是 | V90: 第九周星期二下午 | W90: 否
A91: 国际医药商学院 | B91: 2025 | C91: 健康服务与管理 | D91: 2 | E91: 2026-2027-1 | F91: 1112040183 | G91: 统计学 | H91: 必修 | I91: 2 | J91: 34 | K91: 2 | L91: 健康服务与管理25204701,健康服务与管理25204702 | M91: 34(2) | O91: 专业教育 | P91: 考试 | Q91: 国际医药商学院 | R91: 工商管理教研室 | S91: 笔试 | T91: 闭卷 | U91: 是 | V91: 第九周星期四上午 | W91: 否
A92: 孟目的学院 | B92: 2026 | C92: 药学（杰出药学家实验班） | D92: 2 | E92: 2026-2027-1 | F92: 1112040252 | G92: 药学与社会 | H92: 必修 | I92: 1 | J92: 17 | K92: 2 | L92: 杰出药学家班26240101,杰出药学家班26240102 | M92: 17(1) | O92: 专业教育 | P92: 考试 | Q92: 国际医药商学院 | R92: 工商管理教研室 | S92: 论文 | T92: 否 | U92: 否 | W92: 否
A93: 国际医药商学院 | B93: 2024 | C93: 国际经济与贸易 | D93: 1 | E93: 2026-2027-1 | F93: 1112040249 | G93: 外贸英文与函电 | H93: 必修 | I93: 3 | J93: 51 | K93: 1 | L93: 国贸24204101 | M93: 51(3) | O93: 专业教育 | P93: 考试 | Q93: 国际医药商学院 | R93: 国际贸易教研室 | S93: 笔试 | T93: 闭卷 | U93: 是 | V93: 第十周星期二上午 | W93: 否
A94: 国际医药商学院 | B94: 2024 | C94: 国际经济与贸易 | D94: 1 | E94: 2026-2027-1 | F94: 1112040248 | G94: 医药进出口业务 | H94: 必修 | I94: 2 | J94: 34 | K94: 1 | L94: 国贸24204101 | M94: 34(2) | O94: 专业教育 | P94: 考试 | Q94: 国际医药商学院 | R94: 国际贸易教研室 | S94: 笔试 | T94: 开卷 | U94: 是 | V94: 第九周星期一上午 | W94: 否
A95: 国际医药商学院 | B95: 2024 | C95: 国际经济与贸易 | D95: 1 | E95: 2026-2027-1 | F95: 1112040246 | G95: 外贸运输与保险 | H95: 必修 | I95: 2 | J95: 34 | K95: 1 | L95: 国贸24204101 | M95: 34(3) | O95: 专业教育 | P95: 考试 | Q95: 国际医药商学院 | R95: 国际贸易教研室 | S95: 论文及研讨 | U95: 否 | W95: 否
A96: 国际医药商学院 | B96: 2024 | C96: 经济学 | D96: 2 | E96: 2026-2027-1 | F96: 1112040077 | G96: 国际贸易 | H96: 必修 | I96: 3 | J96: 51 | K96: 2 | L96: 经济学24204401,经济学24204402 | M96: 51(3) | O96: 专业教育 | P96: 考试 | Q96: 国际医药商学院 | R96: 国际贸易教研室 | S96: 论文+课堂讨论 | U96: 否 | W96: 否
A97: 国际医药商学院 | B97: 2024 | C97: 国际经济与贸易 | D97: 1 | E97: 2026-2027-1 | F97: 1112040064 | G97: 世界经济概论 | H97: 必修 | I97: 2 | J97: 34 | K97: 1 | L97: 国贸24204101 | M97: 34(2) | O97: 专业教育 | P97: 考试 | Q97: 国际医药商学院 | R97: 国际贸易教研室 | S97: 小组汇报 | U97: 否 | W97: 否
A98: 国际医药商学院 | B98: 2025 | C98: 医疗产品管理 | D98: 2 | E98: 2026-2027-1 | F98: 1112040220 | G98: 健康保险 | H98: 必修 | I98: 2 | J98: 34 | K98: 2 | L98: 医疗产品管理25204801,医疗产品管理25204802 | M98: 34(2) | O98: 专业教育 | P98: 考试 | Q98: 国际医药商学院 | R98: 健康服务与管理教研室 | S98: 小组汇报 | U98: 是 | V98: 第17周 | W98: 否
A99: 国际医药商学院 | B99: 2024 | C99: 经济学 | D99: 2 | E99: 2026-2027-1 | F99: 1112040106 | G99: 国际金融 | H99: 必修 | I99: 3 | J99: 51 | K99: 2 | L99: 经济学24204401,经济学24204402 | M99: 51(3) | O99: 专业教育 | P99: 考试 | Q99: 国际医药商学院 | R99: 经济学教研室 | S99: 笔试 | T99: 闭卷 | U99: 是 | V99: 第九周星期三上午 | W99: 否
A100: 国际医药商学院 | B100: 2025 | C100: 药事管理 | D100: 3 | E100: 2026-2027-1 | F100: 1112040097 | G100: 宏观经济学 | H100: 必修 | I100: 2 | J100: 34 | K100: 3 | L100: 药事管理25204501,药事管理25204502,药事管理25204503 | M100: 34(2) | O100: 专业教育 | P100: 考试 | Q100: 国际医药商学院 | R100: 经济学教研室 | S100: 考试 | T100: 闭卷 | U100: 否 | W100: 是
A101: 国际医药商学院 | B101: 2025 | C101: 健康服务与管理 | D101: 2 | E101: 2026-2027-1 | F101: 1112040097 | G101: 宏观经济学 | H101: 必修 | I101: 2 | J101: 34 | K101: 2 | L101: 健康服务与管理25204701,健康服务与管理25204702 | M101: 34(2) | O101: 专业教育 | P101: 考试 | Q101: 国际医药商学院 | R101: 经济学教研室 | S101: 考试 | T101: 闭卷 | U101: 否 | W101: 是
A102: 国际医药商学院 | B102: 2025 | C102: 工商管理 | D102: 2 | E102: 2026-2027-1 | F102: 1112040097 | G102: 宏观经济学 | H102: 必修 | I102: 2 | J102: 34 | K102: 2 | L102: 工管25204201,工管25204202 | M102: 34(2) | O102: 专业教育 | P102: 考试 | Q102: 国际医药商学院 | R102: 经济学教研室 | S102: 考试 | T102: 闭卷 | U102: 否 | W102: 是
A103: 国际医药商学院 | B103: 2025 | C103: 健康服务与管理 | D103: 2 | E103: 2026-2027-1 | F103: 1112040209 | G103: 卫生经济学 | H103: 必修 | I103: 2 | J103: 34 | K103: 2 | L103: 健康服务与管理25204701,健康服务与管理25204702 | M103: 34(2) | O103: 专业教育 | P103: 考试 | Q103: 国际医药商学院 | R103: 卫生经济学教研室 | S103: 论文 | U103: 否 | W103: 否
A104: 药学院 | B104: 2024 | C104: 药学 | D104: 10 | E104: 2026-2027-1 | F104: 1112040227 | G104: 药事管理 | H104: 必修 | I104: 2 | J104: 34 | K104: 10 | L104: 药学24201201,药学24201202,药学24201203,药学24201204,药学24201205,药学24201206,药学24201207,药学24201208,药学24201209,药学24201210 | M104: 34(2) | O104: 专业教育 | P104: 考试 | Q104: 国际医药商学院 | R104: 药事管理教研室 | S104: 论文 | U104: 否 | V104: 第十二周 | W104: 否
A105: 药学院 | B105: 2024 | C105: 药物化学 | D105: 5 | E105: 2026-2027-1 | F105: 1112040227 | G105: 药事管理 | H105: 必修 | I105: 2 | J105: 34 | K105: 5 | L105: 药化24201501,药化24201502,药化24201503,药化24201504,药化24201505 | M105: 34(2) | O105: 专业教育 | P105: 考试 | Q105: 国际医药商学院 | R105: 药事管理教研室 | S105: 论文 | U105: 否 | V105: 第十二周 | W105: 否
...

Sheet Sheet2
A1: 第七周
A2: 第十三周
A3: 第十四周

Sheet Sheet1
A1: 课程编号 | B1: 教研室
A2: 1712090007 | B2: =VLOOKUP(A2,[1]课程总库列表!$A$2:$Z$4718,26,0) -> 大学英语教研室
A3: 1712090007 | B3: =VLOOKUP(A3,[1]课程总库列表!$A$2:$Z$4718,26,0) -> 大学英语教研室
A4: 1712090005 | B4: =VLOOKUP(A4,[1]课程总库列表!$A$2:$Z$4718,26,0) -> 大学英语教研室
A5: 1712090005 | B5: =VLOOKUP(A5,[1]课程总库列表!$A$2:$Z$4718,26,0) -> 大学英语教研室
A6: 1712090002 | B6: =VLOOKUP(A6,[1]课程总库列表!$A$2:$Z$4718,26,0) -> 大学英语教研室
A7: 1712090001 | B7: =VLOOKUP(A7,[1]课程总库列表!$A$2:$Z$4718,26,0) -> 大学英语教研室
A8: 1712050015 | B8: =VLOOKUP(A8,[1]课程总库列表!$A$2:$Z$4718,26,0) -> 数理系
A9: 1712050013 | B9: =VLOOKUP(A9,[1]课程总库列表!$A$2:$Z$4718,26,0) -> 医药信息与生物统计系
A10: 1712050013 | B10: =VLOOKUP(A10,[1]课程总库列表!$A$2:$Z$4718,26,0) -> 医药信息与生物统计系
A11: 1712050010 | B11: =VLOOKUP(A11,[1]课程总库列表!$A$2:$Z$4718,26,0) -> 化学系
A12: 1712050010 | B12: =VLOOKUP(A12,[1]课程总库列表!$A$2:$Z$4718,26,0) -> 化学系
A13: 1712050009 | B13: =VLOOKUP(A13,[1]课程总库列表!$A$2:$Z$4718,26,0) -> 化学系
... A472: 1111100070 | B472: =VLOOKUP(A472,[1]课程总库列表!$A$2:$Z$4718,26,0) -> 生命科学与技术学院办公室
